BEGIN:VCALENDAR
VERSION:2.0
PRODID:icalendar-ruby
CALSCALE:GREGORIAN
METHOD:PUBLISH
BEGIN:VEVENT
DTSTAMP:20260421T050741Z
UID:31-1576904@zionpres.org
DTSTART:20261029T210000Z
DTEND:20261029T230000Z
CLASS:PUBLIC
CREATED:20260420T212216
DESCRIPTION:
LAST-MODIFIED:20260420T212216
LOCATION:
SUMMARY:Youth Group in Belfast
URL;VALUE=URI:https://www.zionpres.org/events/youth-group-in-belfast/2026-1
 0-29
END:VEVENT
END:VCALENDAR
