BEGIN:VCALENDAR
VERSION:2.0
PRODID:icalendar-ruby
CALSCALE:GREGORIAN
METHOD:PUBLISH
BEGIN:VEVENT
DTSTAMP:20260420T234716Z
UID:31-1575949@zionpres.org
DTSTART:20261008T210000Z
DTEND:20261008T230000Z
CLASS:PUBLIC
CREATED:20260420T184722
DESCRIPTION:
LAST-MODIFIED:20260420T184722
LOCATION:
SUMMARY:Youth Group in Belfast
URL;VALUE=URI:https://www.zionpres.org/events/youth-group-in-belfast/2026-1
 0-08
END:VEVENT
END:VCALENDAR
