BEGIN:VCALENDAR
VERSION:2.0
PRODID:icalendar-ruby
CALSCALE:GREGORIAN
METHOD:PUBLISH
BEGIN:VEVENT
DTSTAMP:20260420T215255Z
UID:31-1575948@zionpres.org
DTSTART:20261001T210000Z
DTEND:20261001T230000Z
CLASS:PUBLIC
CREATED:20260420T184722
DESCRIPTION:
LAST-MODIFIED:20260420T184722
LOCATION:
SUMMARY:Youth Group in Belfast
URL;VALUE=URI:https://www.zionpres.org/events/youth-group-in-belfast/2026-1
 0-01
END:VEVENT
END:VCALENDAR
