BEGIN:VCALENDAR
VERSION:2.0
PRODID:icalendar-ruby
CALSCALE:GREGORIAN
METHOD:PUBLISH
BEGIN:VEVENT
DTSTAMP:20260420T201920Z
UID:31-1574995@zionpres.org
DTSTART:20260924T210000Z
DTEND:20260924T230000Z
CLASS:PUBLIC
CREATED:20260420T161124
DESCRIPTION:
LAST-MODIFIED:20260420T161124
LOCATION:
SUMMARY:Youth Group in Belfast
URL;VALUE=URI:https://www.zionpres.org/events/youth-group-in-belfast/2026-0
 9-24
END:VEVENT
END:VCALENDAR
