BEGIN:VCALENDAR
VERSION:2.0
PRODID:icalendar-ruby
CALSCALE:GREGORIAN
METHOD:PUBLISH
BEGIN:VEVENT
DTSTAMP:20260420T181939Z
UID:31-1574042@zionpres.org
DTSTART:20260917T210000Z
DTEND:20260917T230000Z
CLASS:PUBLIC
CREATED:20260420T133650
DESCRIPTION:
LAST-MODIFIED:20260420T133650
LOCATION:
SUMMARY:Youth Group in Belfast
URL;VALUE=URI:https://www.zionpres.org/events/youth-group-in-belfast/2026-0
 9-17
END:VEVENT
END:VCALENDAR
