BEGIN:VCALENDAR
VERSION:2.0
PRODID:icalendar-ruby
CALSCALE:GREGORIAN
METHOD:PUBLISH
BEGIN:VEVENT
DTSTAMP:20260421T173719Z
UID:39-1579963@zionpres.org
DTSTART:20260923T220000Z
DTEND:20260923T230000Z
CLASS:PUBLIC
CREATED:20260421T134243
DESCRIPTION:Sanctuary Choir - open to all who love to sing and wish to lear
 n more about music. We meet every Wednesday 7:00-8:30 p.m.
LAST-MODIFIED:20260421T134243
LOCATION:
SUMMARY:Sanctuary Choir
URL;VALUE=URI:https://www.zionpres.org/events/sanctuary-choir/2026-09-23
ATTACH;FILENAME=choir.jpg;FMTTYPE=image/jpeg:https://dq5pwpg1q8ru0.cloudfro
 nt.net/2023/08/28/09/54/56/8eceb566-891c-4fba-a3d3-cfa9cf4012fc/choir.jpg
END:VEVENT
END:VCALENDAR
